BEGIN:VCALENDAR
VERSION:2.0
PRODID:-//Llanyblodwel Parish Council//Meeting Calendar//EN
CALSCALE:GREGORIAN
METHOD:PUBLISH
BEGIN:VEVENT
UID:70461-20250408@llanyblodwelparishcouncil.gov.uk
DTSTAMP:20260419T135437Z
DTSTART;VALUE=DATE:20250408
DTEND;VALUE=DATE:20250409
SUMMARY:Extraordinary Parish Council Meeting &#8211\\; 8 April 2025
DESCRIPTION:Extraordinary Meeting Meeting\nView details: https://llanyblodwelparishcouncil.gov.uk/meetings/extraordinary-parish-council-meeting-8-april-2025/
URL:https://llanyblodwelparishcouncil.gov.uk/meetings/extraordinary-parish-council-meeting-8-april-2025/
END:VEVENT
END:VCALENDAR
